
BEGIN:VCALENDAR
VERSION:2.0
PRODID:-//Théâtre Les Etoiles - Avignon - ECPv6.11.0.1//NONSGML v1.0//EN
CALSCALE:GREGORIAN
METHOD:PUBLISH
X-WR-CALNAME:Théâtre Les Etoiles - Avignon
X-ORIGINAL-URL:https://theatrelesetoiles.com
X-WR-CALDESC:Évènements pour Théâtre Les Etoiles - Avignon
REFRESH-INTERVAL;VALUE=DURATION:PT1H
X-Robots-Tag:noindex
X-PUBLISHED-TTL:PT1H
BEGIN:VTIMEZONE
TZID:UTC
BEGIN:STANDARD
TZOFFSETFROM:+0000
TZOFFSETTO:+0000
TZNAME:UTC
DTSTART:20260101T000000
END:STANDARD
END:VTIMEZONE
BEGIN:VEVENT
DTSTART;TZID=UTC:20260704T172500
DTEND;TZID=UTC:20260725T182500
DTSTAMP:20260420T070007
CREATED:20250416T093233Z
LAST-MODIFIED:20260407T183919Z
UID:7629-1783185900-1785003900@theatrelesetoiles.com
SUMMARY:60 Nuances de Chris 17:25
DESCRIPTION:Sexe\, Karma & Baklava les lundis – 13:15				\n				\n				\n				\n									Une ode à l’émancipation féminine. Crue\, sucrée-salée et saupoudrée d’humour !								\n				\n				\n				\n									Comment apprenait-on la vie\, l’amour\, le sexe\, avant internet ? Quand tout se vivait IRL (In Real Life) sans mode d’emploi ? Quand on ne parlait pas de « ces choses-là ? » Catoch’ se fait le porte-voix des boomeuses pour enfin vous parler de « ces choses-là ». Elle vous raconte sans tabou ni pincette comment la pucelle d’Alsace est devenue l’autrice sulfureuse de 50 scénarios pour nuits torrides. À travers son parcours érotico-sentimental semé d’embûches\, elle questionne le sens de la vie. Elle aborde en filigrane les grands bouleversements sociaux\, de la naissance du développement personnel à l’émergence du mouvement metoo\, en passant par les enjeux de la santé mentale et la disparition des compartiments dans les wagons SNCF. Pour public averti – Déconseillé aux moins de 16 ans Les lundis 6\, 13 et 20 juillet 2026. Le saviez-vous ? Ex-chroniqueuse dans l’émission « Douce France » de Christine Bravo sur France 2\, Catherine Sandner\, alias Catoch’\, a écrit une trentaine de guides psycho-humoristiques (chez Hachette) et le roman « Juliette fait de la télé » (chez Stock). Après « Alsacienne d’Origine Contrôlée » (AOC)\, le premier spectacle de stand-up à l’alsacienne\, joué plus de 200 fois dans 6 pays et bientôt 5 Festivals Off Avignon\, elle crée « 1965 – Mélo\, Dolto\, Rétro (MDR) »\, succès du festival off Avignon 2024 et 25. En 2026\, elle complète la trilogie avec « Sexe\, karma et baklava » programmé à Paris et au festival Off Avignon 2026. Catoch’ est lauréate du Public et du Prix du Jury aux Talents du rire au best-of des talents du rire d’Igny. 								\n				\n				\n				\n					Réserver				\n				\n					\n		\n					\n		\n				\n						\n					\n			\n						\n						\n					\n			\n						\n				\n					Auteur				\n				\n				\n				\n									Catherine Sandner 								\n				\n				\n				\n					Metteur en scène				\n				\n				\n				\n									Nathalie Vrd 								\n				\n				\n				\n					Comédiens				\n				\n				\n				\n									Catoch’ 								\n				\n				\n				\n					Salle				\n				\n				\n				\n									Salle 2 								\n				\n					\n		\n					\n		\n					\n		\n				\n			\n						\n						\n					\n			\n						\n				\n					Extrait				\n				\n					\n		\n					\n		\n				\n						\n					\n			\n						\n				\n					Avis				\n				\n					\n		\n					\n		\n					\n		\n					\n		\n				\n						\n					\n			\n						\n				\n							\n						\n				\n				\n				\n					Réservation 04 26 16 57 70
URL:https://theatrelesetoiles.com/spectacle/60-nuances-de-chris-1840/
CATEGORIES:Ligne4
ATTACH;FMTTYPE=image/jpeg:https://theatrelesetoiles.com/wp-content/uploads/2025/04/Chris_60_v3_DEF_AVIGNON2026-1.jpg
END:VEVENT
BEGIN:VEVENT
DTSTART;TZID=UTC:20260704T181500
DTEND;TZID=UTC:20260725T192500
DTSTAMP:20260420T070008
CREATED:20260408T185816Z
LAST-MODIFIED:20260408T190728Z
UID:8083-1783188900-1785007500@theatrelesetoiles.com
SUMMARY:Vie et amour(s) d'un boomer 18:15
DESCRIPTION:Sexe\, Karma & Baklava les lundis – 13:15				\n				\n				\n				\n									Une ode à l’émancipation féminine. Crue\, sucrée-salée et saupoudrée d’humour !								\n				\n				\n				\n									Comment apprenait-on la vie\, l’amour\, le sexe\, avant internet ? Quand tout se vivait IRL (In Real Life) sans mode d’emploi ? Quand on ne parlait pas de « ces choses-là ? » Catoch’ se fait le porte-voix des boomeuses pour enfin vous parler de « ces choses-là ». Elle vous raconte sans tabou ni pincette comment la pucelle d’Alsace est devenue l’autrice sulfureuse de 50 scénarios pour nuits torrides. À travers son parcours érotico-sentimental semé d’embûches\, elle questionne le sens de la vie. Elle aborde en filigrane les grands bouleversements sociaux\, de la naissance du développement personnel à l’émergence du mouvement metoo\, en passant par les enjeux de la santé mentale et la disparition des compartiments dans les wagons SNCF. Pour public averti – Déconseillé aux moins de 16 ans Les lundis 6\, 13 et 20 juillet 2026. Le saviez-vous ? Ex-chroniqueuse dans l’émission « Douce France » de Christine Bravo sur France 2\, Catherine Sandner\, alias Catoch’\, a écrit une trentaine de guides psycho-humoristiques (chez Hachette) et le roman « Juliette fait de la télé » (chez Stock). Après « Alsacienne d’Origine Contrôlée » (AOC)\, le premier spectacle de stand-up à l’alsacienne\, joué plus de 200 fois dans 6 pays et bientôt 5 Festivals Off Avignon\, elle crée « 1965 – Mélo\, Dolto\, Rétro (MDR) »\, succès du festival off Avignon 2024 et 25. En 2026\, elle complète la trilogie avec « Sexe\, karma et baklava » programmé à Paris et au festival Off Avignon 2026. Catoch’ est lauréate du Public et du Prix du Jury aux Talents du rire au best-of des talents du rire d’Igny. 								\n				\n				\n				\n					Réserver				\n				\n					\n		\n					\n		\n				\n						\n					\n			\n						\n						\n					\n			\n						\n				\n					Auteur				\n				\n				\n				\n									Catherine Sandner 								\n				\n				\n				\n					Metteur en scène				\n				\n				\n				\n									Nathalie Vrd 								\n				\n				\n				\n					Comédiens				\n				\n				\n				\n									Catoch’ 								\n				\n				\n				\n					Salle				\n				\n				\n				\n									Salle 2 								\n				\n					\n		\n					\n		\n					\n		\n				\n			\n						\n						\n					\n			\n						\n				\n					Extrait				\n				\n					\n		\n					\n		\n				\n						\n					\n			\n						\n				\n					Avis				\n				\n					\n		\n					\n		\n					\n		\n					\n		\n				\n						\n					\n			\n						\n				\n							\n						\n				\n				\n				\n					Réservation 04 26 16 57 70
URL:https://theatrelesetoiles.com/spectacle/vie-et-amours-dun-boomer-1815/
CATEGORIES:Ligne4
ATTACH;FMTTYPE=image/jpeg:https://theatrelesetoiles.com/wp-content/uploads/2026/04/afficheboomers.jpg
END:VEVENT
BEGIN:VEVENT
DTSTART;TZID=UTC:20260704T184500
DTEND;TZID=UTC:20260725T195000
DTSTAMP:20260420T070008
CREATED:20260409T173558Z
LAST-MODIFIED:20260409T173558Z
UID:8256-1783190700-1785009000@theatrelesetoiles.com
SUMMARY:Les Femmes ont toujours raison 18:45
DESCRIPTION:Sexe\, Karma & Baklava les lundis – 13:15				\n				\n				\n				\n									Une ode à l’émancipation féminine. Crue\, sucrée-salée et saupoudrée d’humour !								\n				\n				\n				\n									Comment apprenait-on la vie\, l’amour\, le sexe\, avant internet ? Quand tout se vivait IRL (In Real Life) sans mode d’emploi ? Quand on ne parlait pas de « ces choses-là ? » Catoch’ se fait le porte-voix des boomeuses pour enfin vous parler de « ces choses-là ». Elle vous raconte sans tabou ni pincette comment la pucelle d’Alsace est devenue l’autrice sulfureuse de 50 scénarios pour nuits torrides. À travers son parcours érotico-sentimental semé d’embûches\, elle questionne le sens de la vie. Elle aborde en filigrane les grands bouleversements sociaux\, de la naissance du développement personnel à l’émergence du mouvement metoo\, en passant par les enjeux de la santé mentale et la disparition des compartiments dans les wagons SNCF. Pour public averti – Déconseillé aux moins de 16 ans Les lundis 6\, 13 et 20 juillet 2026. Le saviez-vous ? Ex-chroniqueuse dans l’émission « Douce France » de Christine Bravo sur France 2\, Catherine Sandner\, alias Catoch’\, a écrit une trentaine de guides psycho-humoristiques (chez Hachette) et le roman « Juliette fait de la télé » (chez Stock). Après « Alsacienne d’Origine Contrôlée » (AOC)\, le premier spectacle de stand-up à l’alsacienne\, joué plus de 200 fois dans 6 pays et bientôt 5 Festivals Off Avignon\, elle crée « 1965 – Mélo\, Dolto\, Rétro (MDR) »\, succès du festival off Avignon 2024 et 25. En 2026\, elle complète la trilogie avec « Sexe\, karma et baklava » programmé à Paris et au festival Off Avignon 2026. Catoch’ est lauréate du Public et du Prix du Jury aux Talents du rire au best-of des talents du rire d’Igny. 								\n				\n				\n				\n					Réserver				\n				\n					\n		\n					\n		\n				\n						\n					\n			\n						\n						\n					\n			\n						\n				\n					Auteur				\n				\n				\n				\n									Catherine Sandner 								\n				\n				\n				\n					Metteur en scène				\n				\n				\n				\n									Nathalie Vrd 								\n				\n				\n				\n					Comédiens				\n				\n				\n				\n									Catoch’ 								\n				\n				\n				\n					Salle				\n				\n				\n				\n									Salle 2 								\n				\n					\n		\n					\n		\n					\n		\n				\n			\n						\n						\n					\n			\n						\n				\n					Extrait				\n				\n					\n		\n					\n		\n				\n						\n					\n			\n						\n				\n					Avis				\n				\n					\n		\n					\n		\n					\n		\n					\n		\n				\n						\n					\n			\n						\n				\n							\n						\n				\n				\n				\n					Réservation 04 26 16 57 70
URL:https://theatrelesetoiles.com/spectacle/les-femmes-ont-toujours-raison-1845/
CATEGORIES:Ligne4
ATTACH;FMTTYPE=image/jpeg:https://theatrelesetoiles.com/wp-content/uploads/2025/05/AffLESFEMMESONTTOUJOURSRAISON-1.jpg
END:VEVENT
BEGIN:VEVENT
DTSTART;TZID=UTC:20260704T211500
DTEND;TZID=UTC:20260725T221500
DTSTAMP:20260420T070008
CREATED:20260415T132236Z
LAST-MODIFIED:20260415T135547Z
UID:8087-1783199700-1785017700@theatrelesetoiles.com
SUMMARY:Les bateaux de Thésée 21:15
DESCRIPTION:Sexe\, Karma & Baklava les lundis – 13:15				\n				\n				\n				\n									Une ode à l’émancipation féminine. Crue\, sucrée-salée et saupoudrée d’humour !								\n				\n				\n				\n									Comment apprenait-on la vie\, l’amour\, le sexe\, avant internet ? Quand tout se vivait IRL (In Real Life) sans mode d’emploi ? Quand on ne parlait pas de « ces choses-là ? » Catoch’ se fait le porte-voix des boomeuses pour enfin vous parler de « ces choses-là ». Elle vous raconte sans tabou ni pincette comment la pucelle d’Alsace est devenue l’autrice sulfureuse de 50 scénarios pour nuits torrides. À travers son parcours érotico-sentimental semé d’embûches\, elle questionne le sens de la vie. Elle aborde en filigrane les grands bouleversements sociaux\, de la naissance du développement personnel à l’émergence du mouvement metoo\, en passant par les enjeux de la santé mentale et la disparition des compartiments dans les wagons SNCF. Pour public averti – Déconseillé aux moins de 16 ans Les lundis 6\, 13 et 20 juillet 2026. Le saviez-vous ? Ex-chroniqueuse dans l’émission « Douce France » de Christine Bravo sur France 2\, Catherine Sandner\, alias Catoch’\, a écrit une trentaine de guides psycho-humoristiques (chez Hachette) et le roman « Juliette fait de la télé » (chez Stock). Après « Alsacienne d’Origine Contrôlée » (AOC)\, le premier spectacle de stand-up à l’alsacienne\, joué plus de 200 fois dans 6 pays et bientôt 5 Festivals Off Avignon\, elle crée « 1965 – Mélo\, Dolto\, Rétro (MDR) »\, succès du festival off Avignon 2024 et 25. En 2026\, elle complète la trilogie avec « Sexe\, karma et baklava » programmé à Paris et au festival Off Avignon 2026. Catoch’ est lauréate du Public et du Prix du Jury aux Talents du rire au best-of des talents du rire d’Igny. 								\n				\n				\n				\n					Réserver				\n				\n					\n		\n					\n		\n				\n						\n					\n			\n						\n						\n					\n			\n						\n				\n					Auteur				\n				\n				\n				\n									Catherine Sandner 								\n				\n				\n				\n					Metteur en scène				\n				\n				\n				\n									Nathalie Vrd 								\n				\n				\n				\n					Comédiens				\n				\n				\n				\n									Catoch’ 								\n				\n				\n				\n					Salle				\n				\n				\n				\n									Salle 2 								\n				\n					\n		\n					\n		\n					\n		\n				\n			\n						\n						\n					\n			\n						\n				\n					Extrait				\n				\n					\n		\n					\n		\n				\n						\n					\n			\n						\n				\n					Avis				\n				\n					\n		\n					\n		\n					\n		\n					\n		\n				\n						\n					\n			\n						\n				\n							\n						\n				\n				\n				\n					Réservation 04 26 16 57 70
URL:https://theatrelesetoiles.com/spectacle/les-bateaux-de-thesee-2115/
CATEGORIES:Ligne5
ATTACH;FMTTYPE=image/jpeg:https://theatrelesetoiles.com/wp-content/uploads/2026/04/Affiche-LBDT-1.jpg
END:VEVENT
BEGIN:VEVENT
DTSTART;TZID=UTC:20260704T213000
DTEND;TZID=UTC:20260725T224000
DTSTAMP:20260420T070008
CREATED:20260408T191109Z
LAST-MODIFIED:20260408T192140Z
UID:8084-1783200600-1785019200@theatrelesetoiles.com
SUMMARY:TOC TOC 21:30
DESCRIPTION:Sexe\, Karma & Baklava les lundis – 13:15				\n				\n				\n				\n									Une ode à l’émancipation féminine. Crue\, sucrée-salée et saupoudrée d’humour !								\n				\n				\n				\n									Comment apprenait-on la vie\, l’amour\, le sexe\, avant internet ? Quand tout se vivait IRL (In Real Life) sans mode d’emploi ? Quand on ne parlait pas de « ces choses-là ? » Catoch’ se fait le porte-voix des boomeuses pour enfin vous parler de « ces choses-là ». Elle vous raconte sans tabou ni pincette comment la pucelle d’Alsace est devenue l’autrice sulfureuse de 50 scénarios pour nuits torrides. À travers son parcours érotico-sentimental semé d’embûches\, elle questionne le sens de la vie. Elle aborde en filigrane les grands bouleversements sociaux\, de la naissance du développement personnel à l’émergence du mouvement metoo\, en passant par les enjeux de la santé mentale et la disparition des compartiments dans les wagons SNCF. Pour public averti – Déconseillé aux moins de 16 ans Les lundis 6\, 13 et 20 juillet 2026. Le saviez-vous ? Ex-chroniqueuse dans l’émission « Douce France » de Christine Bravo sur France 2\, Catherine Sandner\, alias Catoch’\, a écrit une trentaine de guides psycho-humoristiques (chez Hachette) et le roman « Juliette fait de la télé » (chez Stock). Après « Alsacienne d’Origine Contrôlée » (AOC)\, le premier spectacle de stand-up à l’alsacienne\, joué plus de 200 fois dans 6 pays et bientôt 5 Festivals Off Avignon\, elle crée « 1965 – Mélo\, Dolto\, Rétro (MDR) »\, succès du festival off Avignon 2024 et 25. En 2026\, elle complète la trilogie avec « Sexe\, karma et baklava » programmé à Paris et au festival Off Avignon 2026. Catoch’ est lauréate du Public et du Prix du Jury aux Talents du rire au best-of des talents du rire d’Igny. 								\n				\n				\n				\n					Réserver				\n				\n					\n		\n					\n		\n				\n						\n					\n			\n						\n						\n					\n			\n						\n				\n					Auteur				\n				\n				\n				\n									Catherine Sandner 								\n				\n				\n				\n					Metteur en scène				\n				\n				\n				\n									Nathalie Vrd 								\n				\n				\n				\n					Comédiens				\n				\n				\n				\n									Catoch’ 								\n				\n				\n				\n					Salle				\n				\n				\n				\n									Salle 2 								\n				\n					\n		\n					\n		\n					\n		\n				\n			\n						\n						\n					\n			\n						\n				\n					Extrait				\n				\n					\n		\n					\n		\n				\n						\n					\n			\n						\n				\n					Avis				\n				\n					\n		\n					\n		\n					\n		\n					\n		\n				\n						\n					\n			\n						\n				\n							\n						\n				\n				\n				\n					Réservation 04 26 16 57 70
URL:https://theatrelesetoiles.com/spectacle/toc-toc-2130/
CATEGORIES:Ligne5
ATTACH;FMTTYPE=image/jpeg:https://theatrelesetoiles.com/wp-content/uploads/2026/04/81a2d4f1-e799-46e8-a13b-d3276b86db64.jpeg
END:VEVENT
BEGIN:VEVENT
DTSTART;TZID=UTC:20260705T201000
DTEND;TZID=UTC:20260726T211000
DTSTAMP:20260420T070008
CREATED:20260415T105610Z
LAST-MODIFIED:20260415T141705Z
UID:8086-1783282200-1785100200@theatrelesetoiles.com
SUMMARY:Merci de ne pas marcher sur le chat 20:10
DESCRIPTION:Sexe\, Karma & Baklava les lundis – 13:15				\n				\n				\n				\n									Une ode à l’émancipation féminine. Crue\, sucrée-salée et saupoudrée d’humour !								\n				\n				\n				\n									Comment apprenait-on la vie\, l’amour\, le sexe\, avant internet ? Quand tout se vivait IRL (In Real Life) sans mode d’emploi ? Quand on ne parlait pas de « ces choses-là ? » Catoch’ se fait le porte-voix des boomeuses pour enfin vous parler de « ces choses-là ». Elle vous raconte sans tabou ni pincette comment la pucelle d’Alsace est devenue l’autrice sulfureuse de 50 scénarios pour nuits torrides. À travers son parcours érotico-sentimental semé d’embûches\, elle questionne le sens de la vie. Elle aborde en filigrane les grands bouleversements sociaux\, de la naissance du développement personnel à l’émergence du mouvement metoo\, en passant par les enjeux de la santé mentale et la disparition des compartiments dans les wagons SNCF. Pour public averti – Déconseillé aux moins de 16 ans Les lundis 6\, 13 et 20 juillet 2026. Le saviez-vous ? Ex-chroniqueuse dans l’émission « Douce France » de Christine Bravo sur France 2\, Catherine Sandner\, alias Catoch’\, a écrit une trentaine de guides psycho-humoristiques (chez Hachette) et le roman « Juliette fait de la télé » (chez Stock). Après « Alsacienne d’Origine Contrôlée » (AOC)\, le premier spectacle de stand-up à l’alsacienne\, joué plus de 200 fois dans 6 pays et bientôt 5 Festivals Off Avignon\, elle crée « 1965 – Mélo\, Dolto\, Rétro (MDR) »\, succès du festival off Avignon 2024 et 25. En 2026\, elle complète la trilogie avec « Sexe\, karma et baklava » programmé à Paris et au festival Off Avignon 2026. Catoch’ est lauréate du Public et du Prix du Jury aux Talents du rire au best-of des talents du rire d’Igny. 								\n				\n				\n				\n					Réserver				\n				\n					\n		\n					\n		\n				\n						\n					\n			\n						\n						\n					\n			\n						\n				\n					Auteur				\n				\n				\n				\n									Catherine Sandner 								\n				\n				\n				\n					Metteur en scène				\n				\n				\n				\n									Nathalie Vrd 								\n				\n				\n				\n					Comédiens				\n				\n				\n				\n									Catoch’ 								\n				\n				\n				\n					Salle				\n				\n				\n				\n									Salle 2 								\n				\n					\n		\n					\n		\n					\n		\n				\n			\n						\n						\n					\n			\n						\n				\n					Extrait				\n				\n					\n		\n					\n		\n				\n						\n					\n			\n						\n				\n					Avis				\n				\n					\n		\n					\n		\n					\n		\n					\n		\n				\n						\n					\n			\n						\n				\n							\n						\n				\n				\n				\n					Réservation 04 26 16 57 70
URL:https://theatrelesetoiles.com/spectacle/merci-de-ne-pas-marcher-sur-le-chat-2010/
CATEGORIES:Ligne4
ATTACH;FMTTYPE=image/jpeg:https://theatrelesetoiles.com/wp-content/uploads/2026/04/Chat_Vignette26_BR-ss-log.jpg
END:VEVENT
BEGIN:VEVENT
DTSTART;TZID=UTC:20260706T194000
DTEND;TZID=UTC:20260727T210000
DTSTAMP:20260420T070008
CREATED:20250416T091528Z
LAST-MODIFIED:20260417T105733Z
UID:7628-1783366800-1785186000@theatrelesetoiles.com
SUMMARY:Pour vivre heureux\, vivons couchés 19:40
DESCRIPTION:Sexe\, Karma & Baklava les lundis – 13:15				\n				\n				\n				\n									Une ode à l’émancipation féminine. Crue\, sucrée-salée et saupoudrée d’humour !								\n				\n				\n				\n									Comment apprenait-on la vie\, l’amour\, le sexe\, avant internet ? Quand tout se vivait IRL (In Real Life) sans mode d’emploi ? Quand on ne parlait pas de « ces choses-là ? » Catoch’ se fait le porte-voix des boomeuses pour enfin vous parler de « ces choses-là ». Elle vous raconte sans tabou ni pincette comment la pucelle d’Alsace est devenue l’autrice sulfureuse de 50 scénarios pour nuits torrides. À travers son parcours érotico-sentimental semé d’embûches\, elle questionne le sens de la vie. Elle aborde en filigrane les grands bouleversements sociaux\, de la naissance du développement personnel à l’émergence du mouvement metoo\, en passant par les enjeux de la santé mentale et la disparition des compartiments dans les wagons SNCF. Pour public averti – Déconseillé aux moins de 16 ans Les lundis 6\, 13 et 20 juillet 2026. Le saviez-vous ? Ex-chroniqueuse dans l’émission « Douce France » de Christine Bravo sur France 2\, Catherine Sandner\, alias Catoch’\, a écrit une trentaine de guides psycho-humoristiques (chez Hachette) et le roman « Juliette fait de la télé » (chez Stock). Après « Alsacienne d’Origine Contrôlée » (AOC)\, le premier spectacle de stand-up à l’alsacienne\, joué plus de 200 fois dans 6 pays et bientôt 5 Festivals Off Avignon\, elle crée « 1965 – Mélo\, Dolto\, Rétro (MDR) »\, succès du festival off Avignon 2024 et 25. En 2026\, elle complète la trilogie avec « Sexe\, karma et baklava » programmé à Paris et au festival Off Avignon 2026. Catoch’ est lauréate du Public et du Prix du Jury aux Talents du rire au best-of des talents du rire d’Igny. 								\n				\n				\n				\n					Réserver				\n				\n					\n		\n					\n		\n				\n						\n					\n			\n						\n						\n					\n			\n						\n				\n					Auteur				\n				\n				\n				\n									Catherine Sandner 								\n				\n				\n				\n					Metteur en scène				\n				\n				\n				\n									Nathalie Vrd 								\n				\n				\n				\n					Comédiens				\n				\n				\n				\n									Catoch’ 								\n				\n				\n				\n					Salle				\n				\n				\n				\n									Salle 2 								\n				\n					\n		\n					\n		\n					\n		\n				\n			\n						\n						\n					\n			\n						\n				\n					Extrait				\n				\n					\n		\n					\n		\n				\n						\n					\n			\n						\n				\n					Avis				\n				\n					\n		\n					\n		\n					\n		\n					\n		\n				\n						\n					\n			\n						\n				\n							\n						\n				\n				\n				\n					Réservation 04 26 16 57 70
URL:https://theatrelesetoiles.com/spectacle/pour-vivre-heureux-vivons-couches-2005/
CATEGORIES:Ligne4
ATTACH;FMTTYPE=image/jpeg:https://theatrelesetoiles.com/wp-content/uploads/2025/04/afficheA2pvhvcavignon2026-1.jpg
END:VEVENT
BEGIN:VEVENT
DTSTART;TZID=UTC:20260710T114500
DTEND;TZID=UTC:20260717T125500
DTSTAMP:20260420T070008
CREATED:20250415T085336Z
LAST-MODIFIED:20260416T180224Z
UID:7623-1783683900-1784292900@theatrelesetoiles.com
SUMMARY:L'importance d'être Claire 11:45
DESCRIPTION:Sexe\, Karma & Baklava les lundis – 13:15				\n				\n				\n				\n									Une ode à l’émancipation féminine. Crue\, sucrée-salée et saupoudrée d’humour !								\n				\n				\n				\n									Comment apprenait-on la vie\, l’amour\, le sexe\, avant internet ? Quand tout se vivait IRL (In Real Life) sans mode d’emploi ? Quand on ne parlait pas de « ces choses-là ? » Catoch’ se fait le porte-voix des boomeuses pour enfin vous parler de « ces choses-là ». Elle vous raconte sans tabou ni pincette comment la pucelle d’Alsace est devenue l’autrice sulfureuse de 50 scénarios pour nuits torrides. À travers son parcours érotico-sentimental semé d’embûches\, elle questionne le sens de la vie. Elle aborde en filigrane les grands bouleversements sociaux\, de la naissance du développement personnel à l’émergence du mouvement metoo\, en passant par les enjeux de la santé mentale et la disparition des compartiments dans les wagons SNCF. Pour public averti – Déconseillé aux moins de 16 ans Les lundis 6\, 13 et 20 juillet 2026. Le saviez-vous ? Ex-chroniqueuse dans l’émission « Douce France » de Christine Bravo sur France 2\, Catherine Sandner\, alias Catoch’\, a écrit une trentaine de guides psycho-humoristiques (chez Hachette) et le roman « Juliette fait de la télé » (chez Stock). Après « Alsacienne d’Origine Contrôlée » (AOC)\, le premier spectacle de stand-up à l’alsacienne\, joué plus de 200 fois dans 6 pays et bientôt 5 Festivals Off Avignon\, elle crée « 1965 – Mélo\, Dolto\, Rétro (MDR) »\, succès du festival off Avignon 2024 et 25. En 2026\, elle complète la trilogie avec « Sexe\, karma et baklava » programmé à Paris et au festival Off Avignon 2026. Catoch’ est lauréate du Public et du Prix du Jury aux Talents du rire au best-of des talents du rire d’Igny. 								\n				\n				\n				\n					Réserver				\n				\n					\n		\n					\n		\n				\n						\n					\n			\n						\n						\n					\n			\n						\n				\n					Auteur				\n				\n				\n				\n									Catherine Sandner 								\n				\n				\n				\n					Metteur en scène				\n				\n				\n				\n									Nathalie Vrd 								\n				\n				\n				\n					Comédiens				\n				\n				\n				\n									Catoch’ 								\n				\n				\n				\n					Salle				\n				\n				\n				\n									Salle 2 								\n				\n					\n		\n					\n		\n					\n		\n				\n			\n						\n						\n					\n			\n						\n				\n					Extrait				\n				\n					\n		\n					\n		\n				\n						\n					\n			\n						\n				\n					Avis				\n				\n					\n		\n					\n		\n					\n		\n					\n		\n				\n						\n					\n			\n						\n				\n							\n						\n				\n				\n				\n					Réservation 04 26 16 57 70
URL:https://theatrelesetoiles.com/spectacle/limportance-detre-claire-1600/
CATEGORIES:Ligne1
ATTACH;FMTTYPE=image/jpeg:https://theatrelesetoiles.com/wp-content/uploads/2025/04/AFFICHE-BR-Claire-new2-1-1.jpg
END:VEVENT
END:VCALENDAR